BEGIN:VCALENDAR
VERSION:2.0
PRODID:-//hacksw/handcal//NONSGML v1.0//EN
BEGIN:VEVENT
UID:12724
DTSTART;VALUE=DATE:20190814
URL;VALUE=URI:ohschonhell.at/?page_id=28064
SUMMARY:Free Fullmoon Beach Party
LOCATION:VIENNA CITY BEACH CLUB
END:VEVENT
END:VCALENDAR


