BEGIN:VCALENDAR
VERSION:2.0
PRODID:-//hacksw/handcal//NONSGML v1.0//EN
BEGIN:VEVENT
UID:12736
DTSTART;VALUE=DATE:20190705
URL;VALUE=URI:ohschonhell.at/?page_id=28088
SUMMARY:Demo abgesagt!! Ersatzprogramm: Wr. Abendschule mit Marko Nastic
LOCATION:Maria-Theresien-Platz
END:VEVENT
END:VCALENDAR


