BEGIN:VCALENDAR
VERSION:2.0
PRODID:-//hacksw/handcal//NONSGML v1.0//EN
BEGIN:VEVENT
UID:12738
DTSTART;VALUE=DATE:20190702
URL;VALUE=URI:ohschonhell.at/?page_id=28092
SUMMARY:Viennalizm | Indubstrial Issue
LOCATION:Strandbar Herrmann
END:VEVENT
END:VCALENDAR


