BEGIN:VCALENDAR
VERSION:2.0
PRODID:-//hacksw/handcal//NONSGML v1.0//EN
BEGIN:VEVENT
UID:12742
DTSTART;VALUE=DATE:20190802
URL;VALUE=URI:ohschonhell.at/?page_id=28113
SUMMARY:WE ARE &quot\;Techno&quot\; Bipolar Records Label Launch Party
LOCATION:SUMMER STATION
END:VEVENT
END:VCALENDAR


