BEGIN:VCALENDAR
VERSION:2.0
PRODID:-//hacksw/handcal//NONSGML v1.0//EN
BEGIN:VEVENT
UID:12746
DTSTART;VALUE=DATE:20190802
URL;VALUE=URI:ohschonhell.at/?page_id=28122
SUMMARY:Pulsation Recs Dubstep Night with Tetrix Bass / Beatcore / Iamu
LOCATION:DUAL
END:VEVENT
END:VCALENDAR


