BEGIN:VCALENDAR
VERSION:2.0
PRODID:-//hacksw/handcal//NONSGML v1.0//EN
BEGIN:VEVENT
UID:12749
DTSTART;VALUE=DATE:20190718
URL;VALUE=URI:ohschonhell.at/?page_id=28128
SUMMARY:STEVE HOPE And Friends WohnzimmerEdition
LOCATION:SASS
END:VEVENT
END:VCALENDAR


