BEGIN:VCALENDAR
VERSION:2.0
PRODID:-//hacksw/handcal//NONSGML v1.0//EN
BEGIN:VEVENT
UID:12776
DTSTART;VALUE=DATE:20190712
URL;VALUE=URI:ohschonhell.at/?page_id=28188
SUMMARY:ALLES JUT.
LOCATION:ELEKTRO GÖNNER
END:VEVENT
END:VCALENDAR


