BEGIN:VCALENDAR
VERSION:2.0
PRODID:-//hacksw/handcal//NONSGML v1.0//EN
BEGIN:VEVENT
UID:12783
DTSTART;VALUE=DATE:20190720
URL;VALUE=URI:ohschonhell.at/?page_id=28213
SUMMARY:Trauma Club Night at Kramladen
LOCATION:Kramladen
END:VEVENT
END:VCALENDAR


