BEGIN:VCALENDAR
VERSION:2.0
PRODID:-//hacksw/handcal//NONSGML v1.0//EN
BEGIN:VEVENT
UID:12823
DTSTART;VALUE=DATE:20190728
URL;VALUE=URI:ohschonhell.at/?page_id=28301
SUMMARY:28 July: H∆NN∆ &amp\; B.Visible
LOCATION:BURGTHEATER
END:VEVENT
END:VCALENDAR


