BEGIN:VCALENDAR
VERSION:2.0
PRODID:-//hacksw/handcal//NONSGML v1.0//EN
BEGIN:VEVENT
UID:12832
DTSTART;VALUE=DATE:20190817
URL;VALUE=URI:ohschonhell.at/?page_id=28324
SUMMARY:Mystic Rave 2019 /w. Per Hammar (Berlin)
LOCATION:Skatepark Štvanice
END:VEVENT
END:VCALENDAR


