BEGIN:VCALENDAR
VERSION:2.0
PRODID:-//hacksw/handcal//NONSGML v1.0//EN
BEGIN:VEVENT
UID:12839
DTSTART;VALUE=DATE:20190729
URL;VALUE=URI:ohschonhell.at/?page_id=28340
SUMMARY:Affine im Sommer feat. Wandl &amp\; The Clonious
LOCATION:BURGTHEATER
END:VEVENT
END:VCALENDAR


