BEGIN:VCALENDAR
VERSION:2.0
PRODID:-//hacksw/handcal//NONSGML v1.0//EN
BEGIN:VEVENT
UID:12845
DTSTART;VALUE=DATE:20190727
URL;VALUE=URI:ohschonhell.at/?page_id=28357
SUMMARY:Change-Club Frühschoppen
LOCATION:Club Change
END:VEVENT
END:VCALENDAR


