BEGIN:VCALENDAR
VERSION:2.0
PRODID:-//hacksw/handcal//NONSGML v1.0//EN
BEGIN:VEVENT
UID:12846
DTSTART;VALUE=DATE:20190824
URL;VALUE=URI:ohschonhell.at/?page_id=28359
SUMMARY:Katerfrühstück. #14 Catatonic (krooksn bday special)
LOCATION:Kramladen
END:VEVENT
END:VCALENDAR


