BEGIN:VCALENDAR
VERSION:2.0
PRODID:-//hacksw/handcal//NONSGML v1.0//EN
BEGIN:VEVENT
UID:12851
DTSTART;VALUE=DATE:20190813
URL;VALUE=URI:ohschonhell.at/?page_id=28369
SUMMARY:das techno cafe . Die Sommerparty ab 18H
LOCATION:VOLKSGARTEN PAVILLON
END:VEVENT
END:VCALENDAR


