BEGIN:VCALENDAR
VERSION:2.0
PRODID:-//hacksw/handcal//NONSGML v1.0//EN
BEGIN:VEVENT
UID:12878
DTSTART;VALUE=DATE:20190820
URL;VALUE=URI:ohschonhell.at/?page_id=28429
SUMMARY:Rave Odyssey ~ Sonnendeck
LOCATION:FLEX
END:VEVENT
END:VCALENDAR


