BEGIN:VCALENDAR
VERSION:2.0
PRODID:-//hacksw/handcal//NONSGML v1.0//EN
BEGIN:VEVENT
UID:12884
DTSTART;VALUE=DATE:20190817
URL;VALUE=URI:ohschonhell.at/?page_id=28453
SUMMARY:Open Air Burg Perchtoldsdorf P`Dorf Beat Tube Musicfestival 2019
LOCATION:Burg Perchtoldsdorf
END:VEVENT
END:VCALENDAR


