BEGIN:VCALENDAR
VERSION:2.0
PRODID:-//hacksw/handcal//NONSGML v1.0//EN
BEGIN:VEVENT
UID:12892
DTSTART;VALUE=DATE:20190824
URL;VALUE=URI:ohschonhell.at/?page_id=28469
SUMMARY:Beat It Saturday
LOCATION:FLEX
END:VEVENT
END:VCALENDAR


