BEGIN:VCALENDAR
VERSION:2.0
PRODID:-//hacksw/handcal//NONSGML v1.0//EN
BEGIN:VEVENT
UID:12899
DTSTART;VALUE=DATE:20190810
URL;VALUE=URI:ohschonhell.at/?page_id=28483
SUMMARY:Krypt.Forelle.Terrasse X Kollektiv Kochstrasse X Otto Bauer
LOCATION:Krypt Forelle Terrasse
END:VEVENT
END:VCALENDAR


