BEGIN:VCALENDAR
VERSION:2.0
PRODID:-//hacksw/handcal//NONSGML v1.0//EN
BEGIN:VEVENT
UID:12916
DTSTART;VALUE=DATE:20190817
URL;VALUE=URI:ohschonhell.at/?page_id=28529
SUMMARY:B E T O N D S C H U N G E L
LOCATION:OPENmarx
END:VEVENT
END:VCALENDAR


