BEGIN:VCALENDAR
VERSION:2.0
PRODID:-//hacksw/handcal//NONSGML v1.0//EN
BEGIN:VEVENT
UID:12929
DTSTART;VALUE=DATE:20190824
URL;VALUE=URI:ohschonhell.at/?page_id=28558
SUMMARY:Vienna ist Tropical #amazonica
LOCATION:Fanialive
END:VEVENT
END:VCALENDAR


