BEGIN:VCALENDAR
VERSION:2.0
PRODID:-//hacksw/handcal//NONSGML v1.0//EN
BEGIN:VEVENT
UID:12941
DTSTART;VALUE=DATE:20190913
URL;VALUE=URI:ohschonhell.at/?page_id=28584
SUMMARY:16 Jahre G.SPOT
LOCATION:CAMERA CLUB
END:VEVENT
END:VCALENDAR


