BEGIN:VCALENDAR
VERSION:2.0
PRODID:-//hacksw/handcal//NONSGML v1.0//EN
BEGIN:VEVENT
UID:12948
DTSTART;VALUE=DATE:20190906
URL;VALUE=URI:ohschonhell.at/?page_id=28598
SUMMARY:Chaos Partie VS Tek meets French
LOCATION:Club Change
END:VEVENT
END:VCALENDAR


