BEGIN:VCALENDAR
VERSION:2.0
PRODID:-//hacksw/handcal//NONSGML v1.0//EN
BEGIN:VEVENT
UID:12949
DTSTART;VALUE=DATE:20190824
URL;VALUE=URI:ohschonhell.at/?page_id=28600
SUMMARY:Morning Tekk | Afterhour
LOCATION:Club Change
END:VEVENT
END:VCALENDAR


