BEGIN:VCALENDAR
VERSION:2.0
PRODID:-//hacksw/handcal//NONSGML v1.0//EN
BEGIN:VEVENT
UID:12974
DTSTART;VALUE=DATE:20190810
URL;VALUE=URI:ohschonhell.at/?page_id=28650
SUMMARY:Groove Flash
LOCATION:Club Change
END:VEVENT
END:VCALENDAR


