BEGIN:VCALENDAR
VERSION:2.0
PRODID:-//hacksw/handcal//NONSGML v1.0//EN
BEGIN:VEVENT
UID:12991
DTSTART;VALUE=DATE:20190821
URL;VALUE=URI:ohschonhell.at/?page_id=28686
SUMMARY:Knartz Demonstration kuratiert von être
LOCATION:AUGARTENBRÜCKE
END:VEVENT
END:VCALENDAR


