BEGIN:VCALENDAR
VERSION:2.0
PRODID:-//hacksw/handcal//NONSGML v1.0//EN
BEGIN:VEVENT
UID:13022
DTSTART;VALUE=DATE:20190904
URL;VALUE=URI:ohschonhell.at/?page_id=28751
SUMMARY:Oh it&#039\;s a Free Party - SCHNiTTWOCH / Freier Eintritt - TEKNO !
LOCATION:VIPER ROOM
END:VEVENT
END:VCALENDAR


