BEGIN:VCALENDAR
VERSION:2.0
PRODID:-//hacksw/handcal//NONSGML v1.0//EN
BEGIN:VEVENT
UID:13024
DTSTART;VALUE=DATE:20190901
URL;VALUE=URI:ohschonhell.at/?page_id=28755
SUMMARY:Sonntagsluft |6
LOCATION:Die Hütte am Bellevue
END:VEVENT
END:VCALENDAR


