BEGIN:VCALENDAR
VERSION:2.0
PRODID:-//hacksw/handcal//NONSGML v1.0//EN
BEGIN:VEVENT
UID:13025
DTSTART;VALUE=DATE:20190831
URL;VALUE=URI:ohschonhell.at/?page_id=28757
SUMMARY:Viennalizm | Gürtel Nightwalk
LOCATION:Kramladen
END:VEVENT
END:VCALENDAR


