BEGIN:VCALENDAR
VERSION:2.0
PRODID:-//hacksw/handcal//NONSGML v1.0//EN
BEGIN:VEVENT
UID:13027
DTSTART;VALUE=DATE:20190830
URL;VALUE=URI:ohschonhell.at/?page_id=28761
SUMMARY:Premiere Sky X Sauna Strand Klub: Supernatural S14
LOCATION:Sauna Strand Klub
END:VEVENT
END:VCALENDAR


