BEGIN:VCALENDAR
VERSION:2.0
PRODID:-//hacksw/handcal//NONSGML v1.0//EN
BEGIN:VEVENT
UID:13037
DTSTART;VALUE=DATE:20190920
URL;VALUE=URI:ohschonhell.at/?page_id=28785
SUMMARY:Tanzabend Zum ROTEN FASAN
LOCATION:VENSTER 99
END:VEVENT
END:VCALENDAR


