BEGIN:VCALENDAR
VERSION:2.0
PRODID:-//hacksw/handcal//NONSGML v1.0//EN
BEGIN:VEVENT
UID:1305
DTSTART;VALUE=DATE:20140528
URL;VALUE=URI:ohschonhell.at/?page_id=3778
SUMMARY:Swatch Up Your Night!
LOCATION:CHAYA FUERA
END:VEVENT
END:VCALENDAR


