BEGIN:VCALENDAR
VERSION:2.0
PRODID:-//hacksw/handcal//NONSGML v1.0//EN
BEGIN:VEVENT
UID:13054
DTSTART;VALUE=DATE:20190921
URL;VALUE=URI:ohschonhell.at/?page_id=28819
SUMMARY:Lost In Techno ░ Queer Techno Night ░ Opera Club ░ 21.09
LOCATION:OPERA CLUB
END:VEVENT
END:VCALENDAR


