BEGIN:VCALENDAR
VERSION:2.0
PRODID:-//hacksw/handcal//NONSGML v1.0//EN
BEGIN:VEVENT
UID:13055
DTSTART;VALUE=DATE:20190921
URL;VALUE=URI:ohschonhell.at/?page_id=28821
SUMMARY:Manifest w/ Sassy J (Patchwork\, CH)
LOCATION:SASS
END:VEVENT
END:VCALENDAR


