BEGIN:VCALENDAR
VERSION:2.0
PRODID:-//hacksw/handcal//NONSGML v1.0//EN
BEGIN:VEVENT
UID:13059
DTSTART;VALUE=DATE:20190914
URL;VALUE=URI:ohschonhell.at/?page_id=28829
SUMMARY:Neunundsechzig - Dennes Deen+Maximilian Grün - 11hours birthday
LOCATION:SASS
END:VEVENT
END:VCALENDAR


