BEGIN:VCALENDAR
VERSION:2.0
PRODID:-//hacksw/handcal//NONSGML v1.0//EN
BEGIN:VEVENT
UID:13061
DTSTART;VALUE=DATE:20190913
URL;VALUE=URI:ohschonhell.at/?page_id=28833
SUMMARY:2 YRS Horst w./ Josh Wink
LOCATION:HORST
END:VEVENT
END:VCALENDAR


