BEGIN:VCALENDAR
VERSION:2.0
PRODID:-//hacksw/handcal//NONSGML v1.0//EN
BEGIN:VEVENT
UID:13078
DTSTART;VALUE=DATE:20191022
URL;VALUE=URI:ohschonhell.at/?page_id=28868
SUMMARY:Habitat Opening - October Dates
LOCATION:Heart Club
END:VEVENT
END:VCALENDAR


