BEGIN:VCALENDAR
VERSION:2.0
PRODID:-//hacksw/handcal//NONSGML v1.0//EN
BEGIN:VEVENT
UID:13082
DTSTART;VALUE=DATE:20190918
URL;VALUE=URI:ohschonhell.at/?page_id=28876
SUMMARY:Oh it&#039\;s a Free Party - 18 September - SCHNiTTWOCH / TeCHNo/TeKNO
LOCATION:VIPER ROOM
END:VEVENT
END:VCALENDAR


