BEGIN:VCALENDAR
VERSION:2.0
PRODID:-//hacksw/handcal//NONSGML v1.0//EN
BEGIN:VEVENT
UID:13093
DTSTART;VALUE=DATE:20190918
URL;VALUE=URI:ohschonhell.at/?page_id=28907
SUMMARY:Fortunea Records Afterwork Session w/ LeSale
LOCATION:HEUER AM KARLSPLATZ
END:VEVENT
END:VCALENDAR


