BEGIN:VCALENDAR
VERSION:2.0
PRODID:-//hacksw/handcal//NONSGML v1.0//EN
BEGIN:VEVENT
UID:13098
DTSTART;VALUE=DATE:20190917
URL;VALUE=URI:ohschonhell.at/?page_id=28917
SUMMARY:Closing feat.by Ramazzotti Aperitivo Rosato Indoor imVolksgarten
LOCATION:VOLKSGARTEN
END:VEVENT
END:VCALENDAR


