BEGIN:VCALENDAR
VERSION:2.0
PRODID:-//hacksw/handcal//NONSGML v1.0//EN
BEGIN:VEVENT
UID:13099
DTSTART;VALUE=DATE:20190926
URL;VALUE=URI:ohschonhell.at/?page_id=28919
SUMMARY:BUDxVIENNA at Parallel // Jugo Ürdens // Marco Bailey
LOCATION:Parallel Vienna
END:VEVENT
END:VCALENDAR


