BEGIN:VCALENDAR
VERSION:2.0
PRODID:-//hacksw/handcal//NONSGML v1.0//EN
BEGIN:VEVENT
UID:13100
DTSTART;VALUE=DATE:20190920
URL;VALUE=URI:ohschonhell.at/?page_id=28921
SUMMARY:2 Years 808Factory w/ AlphaMob\, $oho\, Hugo Nameless\, uvm.
LOCATION:CAMERA CLUB
END:VEVENT
END:VCALENDAR


