BEGIN:VCALENDAR
VERSION:2.0
PRODID:-//hacksw/handcal//NONSGML v1.0//EN
BEGIN:VEVENT
UID:13109
DTSTART;VALUE=DATE:20191011
URL;VALUE=URI:ohschonhell.at/?page_id=28941
SUMMARY:SOLD OUT Lola Marsh | Wien\, Rote Bar
LOCATION:ROTE BAR
END:VEVENT
END:VCALENDAR


