BEGIN:VCALENDAR
VERSION:2.0
PRODID:-//hacksw/handcal//NONSGML v1.0//EN
BEGIN:VEVENT
UID:13118
DTSTART;VALUE=DATE:20190920
URL;VALUE=URI:ohschonhell.at/?page_id=28959
SUMMARY:Moonbootica | HORST x Freud &amp\; Taumel
LOCATION:HORST
END:VEVENT
END:VCALENDAR


