BEGIN:VCALENDAR
VERSION:2.0
PRODID:-//hacksw/handcal//NONSGML v1.0//EN
BEGIN:VEVENT
UID:13121
DTSTART;VALUE=DATE:20191018
URL;VALUE=URI:ohschonhell.at/?page_id=28976
SUMMARY:Duality I.
LOCATION:DUAL
END:VEVENT
END:VCALENDAR


