BEGIN:VCALENDAR
VERSION:2.0
PRODID:-//hacksw/handcal//NONSGML v1.0//EN
BEGIN:VEVENT
UID:13124
DTSTART;VALUE=DATE:20190928
URL;VALUE=URI:ohschonhell.at/?page_id=28982
SUMMARY:French4Free Runde 3
LOCATION:Club Change
END:VEVENT
END:VCALENDAR


