BEGIN:VCALENDAR
VERSION:2.0
PRODID:-//hacksw/handcal//NONSGML v1.0//EN
BEGIN:VEVENT
UID:13135
DTSTART;VALUE=DATE:20191012
URL;VALUE=URI:ohschonhell.at/?page_id=29006
SUMMARY:Bassfabrik Vol. 1
LOCATION:CAMERA CLUB
END:VEVENT
END:VCALENDAR


