BEGIN:VCALENDAR
VERSION:2.0
PRODID:-//hacksw/handcal//NONSGML v1.0//EN
BEGIN:VEVENT
UID:13159
DTSTART;VALUE=DATE:20191004
URL;VALUE=URI:ohschonhell.at/?page_id=29058
SUMMARY:Horst &amp\; Hannelore w. Black Coffee
LOCATION:HORST
END:VEVENT
END:VCALENDAR


