BEGIN:VCALENDAR
VERSION:2.0
PRODID:-//hacksw/handcal//NONSGML v1.0//EN
BEGIN:VEVENT
UID:13164
DTSTART;VALUE=DATE:20190928
URL;VALUE=URI:ohschonhell.at/?page_id=29068
SUMMARY:Season Closing at ॐ Summerstation ॐ
LOCATION:SUMMER STATION
END:VEVENT
END:VCALENDAR


