BEGIN:VCALENDAR
VERSION:2.0
PRODID:-//hacksw/handcal//NONSGML v1.0//EN
BEGIN:VEVENT
UID:13166
DTSTART;VALUE=DATE:20190927
URL;VALUE=URI:ohschonhell.at/?page_id=29072
SUMMARY:Maschinenraum w/ Specific Objects
LOCATION:VENSTER 99
END:VEVENT
END:VCALENDAR


