BEGIN:VCALENDAR
VERSION:2.0
PRODID:-//hacksw/handcal//NONSGML v1.0//EN
BEGIN:VEVENT
UID:13167
DTSTART;VALUE=DATE:20190927
URL;VALUE=URI:ohschonhell.at/?page_id=29074
SUMMARY:Parallel Vienna +1 // New Off Location (!)
LOCATION:Parallel Vienna
END:VEVENT
END:VCALENDAR


